BEGIN:VCALENDAR
VERSION:2.0
PRODID:-//Music Teachers Association Southern Alameda County - ECPv5.3.1//NONSGML v1.0//EN
CALSCALE:GREGORIAN
METHOD:PUBLISH
X-WR-CALNAME:Music Teachers Association Southern Alameda County
X-ORIGINAL-URL:https://www.mtacsacb.org
X-WR-CALDESC:Events for Music Teachers Association Southern Alameda County
BEGIN:VTIMEZONE
TZID:UTC
BEGIN:STANDARD
TZOFFSETFROM:+0000
TZOFFSETTO:+0000
TZNAME:UTC
DTSTART:20220101T000000
END:STANDARD
END:VTIMEZONE
BEGIN:VEVENT
DTSTART;TZID=UTC:20220507T160000
DTEND;TZID=UTC:20220507T170000
DTSTAMP:20260423T194456
CREATED:20220125T055822Z
LAST-MODIFIED:20220125T055822Z
UID:2543-1651939200-1651942800@www.mtacsacb.org
SUMMARY:Beatles Concert Signup
DESCRIPTION:Our MTAC branch will be presenting an all-Beatles music concert on Saturday\, May 7th at 4pm. It will be held at Christ’s Community Church in Hayward. There will probably be a dress rehearsal for the concert in late April as well\, so factor that into your planning. The program will be comprised of students from our branch performing duet\, trio\, and quartet arrangements of songs by The Beatles. Musical collaboration will be a theme of this concert.\n\nThe Beatles songs are perhaps the most extensively notated and transcribed of any group in pop music history. There are plenty of published options when it comes to duet\, trio\, and quartet arrangements of Beatles music. We have assembled a list of song arrangements along with sheet music links in a Google Sheet. You will find that link below.\n\nAfter you have found a song arrangement that you are happy with and have students committed to perform the song on May 7th\, then type in your information in the Google Sheet. That will reserve the song for you and your students. Each song will be featured in the program only one time. If you have an arrangement of a Beatles  song that is not on this list\, just add the song at the bottom or create a new row within the song list and add your information. The sign-ups will be first come\, first served\, so act quickly if this performance opportunity interests you and your students.\n\nClick here to sign up on the Google Sheets page.\n\nIf you have any questions about this event or need help selecting a song arrangement\, contact Jesse Micek at: jessemicek@yahoo.com
URL:https://www.mtacsacb.org/event/beatles-concert-signup/
END:VEVENT
END:VCALENDAR