BEGIN:VCALENDAR
VERSION:2.0
PRODID:-//Music Teachers Association Southern Alameda County - ECPv5.3.1//NONSGML v1.0//EN
CALSCALE:GREGORIAN
METHOD:PUBLISH
X-WR-CALNAME:Music Teachers Association Southern Alameda County
X-ORIGINAL-URL:https://www.mtacsacb.org
X-WR-CALDESC:Events for Music Teachers Association Southern Alameda County
BEGIN:VTIMEZONE
TZID:UTC
BEGIN:STANDARD
TZOFFSETFROM:+0000
TZOFFSETTO:+0000
TZNAME:UTC
DTSTART:20220101T000000
END:STANDARD
END:VTIMEZONE
BEGIN:VEVENT
DTSTART;TZID=UTC:20220423T104500
DTEND;TZID=UTC:20220423T114500
DTSTAMP:20260423T194354
CREATED:20220415T041732Z
LAST-MODIFIED:20220422T155317Z
UID:2587-1650710700-1650714300@www.mtacsacb.org
SUMMARY:BRANCH HONORS RECITAL - CASTRO VALLEY April 23rd\, 2022 @10:45 AM
DESCRIPTION: 
URL:https://www.mtacsacb.org/event/branch-honors-recital-1045/
END:VEVENT
END:VCALENDAR