BEGIN:VCALENDAR
VERSION:2.0
PRODID:-//Music Teachers Association Southern Alameda County - ECPv5.3.1//NONSGML v1.0//EN
CALSCALE:GREGORIAN
METHOD:PUBLISH
X-WR-CALNAME:Music Teachers Association Southern Alameda County
X-ORIGINAL-URL:https://www.mtacsacb.org
X-WR-CALDESC:Events for Music Teachers Association Southern Alameda County
BEGIN:VTIMEZONE
TZID:UTC
BEGIN:STANDARD
TZOFFSETFROM:+0000
TZOFFSETTO:+0000
TZNAME:UTC
DTSTART:20220101T000000
END:STANDARD
END:VTIMEZONE
BEGIN:VEVENT
DTSTART;TZID=UTC:20220423T140000
DTEND;TZID=UTC:20220423T150000
DTSTAMP:20260423T195801
CREATED:20220415T043357Z
LAST-MODIFIED:20220422T154454Z
UID:2607-1650722400-1650726000@www.mtacsacb.org
SUMMARY:BRANCH HONORS RECITAL - HAYWARD April 23rd\, 2022 @2:00 PM
DESCRIPTION:
URL:https://www.mtacsacb.org/event/branch-honors-recital-hayward-200-pm/
END:VEVENT
END:VCALENDAR