BEGIN:VCALENDAR
VERSION:2.0
PRODID:-//Music Teachers Association Southern Alameda County - ECPv5.3.1//NONSGML v1.0//EN
CALSCALE:GREGORIAN
METHOD:PUBLISH
X-WR-CALNAME:Music Teachers Association Southern Alameda County
X-ORIGINAL-URL:https://www.mtacsacb.org
X-WR-CALDESC:Events for Music Teachers Association Southern Alameda County
BEGIN:VTIMEZONE
TZID:UTC
BEGIN:STANDARD
TZOFFSETFROM:+0000
TZOFFSETTO:+0000
TZNAME:UTC
DTSTART:20210101T000000
END:STANDARD
END:VTIMEZONE
BEGIN:VEVENT
DTSTART;TZID=UTC:20211206T110000
DTEND;TZID=UTC:20211206T130000
DTSTAMP:20260424T012635
CREATED:20211117T071502Z
LAST-MODIFIED:20211117T071922Z
UID:2520-1638788400-1638795600@www.mtacsacb.org
SUMMARY:Christmas Luncheon
DESCRIPTION:Christmas luncheon\n\nJoin teachers from our branch for a time of fellowship and fun at our annual Christmas Luncheon.\n\nWhen:  Monday\, December 6th\n           11a.m. – 1p.m.\n\nWhere: World Gourmet Buffet\, 6010 Stevenson Blvd\, Fremont\n\nThey serve a diverse array of foods:\n           Salad bar\n           Mongolian BBQ\n           Soups\n           Seafood\n           Dim Sum\n           Desert bar\n           Sushi\n           Ice cream\n           And more.\n\nCost: $23 – this includes an all you can eat meal\, soda or tea\, tax and gratuity. No need to pay in advance; just pay for your meal at the restaurant and say you are with the “MTAC” for this group price.\n\n*World Gourmet offers a 10% discount for seniors.\n\nFor fun: we will continue our tradition with a gift exchange of an item costing $20 or less. Come anyway even if you do not want to participate in this.\n\nQuestions? Email Karen Wolff: rotenwald@comcast.net\n\nSign Up Here\n\n\n\n\n\nName(required)\n\n	\n\n\nEmail(required)\n\n	\n\n\nPhone Number(required)\n\n	\n	\n		Submit
URL:https://www.mtacsacb.org/event/christmas-luncheon-4/
END:VEVENT
END:VCALENDAR