BEGIN:VCALENDAR
VERSION:2.0
PRODID:-//Music Teachers Association Southern Alameda County - ECPv5.3.1//NONSGML v1.0//EN
CALSCALE:GREGORIAN
METHOD:PUBLISH
X-WR-CALNAME:Music Teachers Association Southern Alameda County
X-ORIGINAL-URL:https://www.mtacsacb.org
X-WR-CALDESC:Events for Music Teachers Association Southern Alameda County
BEGIN:VTIMEZONE
TZID:UTC
BEGIN:STANDARD
TZOFFSETFROM:+0000
TZOFFSETTO:+0000
TZNAME:UTC
DTSTART:20210101T000000
END:STANDARD
END:VTIMEZONE
BEGIN:VEVENT
DTSTART;TZID=UTC:20211120T150000
DTEND;TZID=UTC:20211120T160000
DTSTAMP:20260424T033411
CREATED:20211118T174945Z
LAST-MODIFIED:20211118T180911Z
UID:2529-1637420400-1637424000@www.mtacsacb.org
SUMMARY:NOVEMBER 20TH RECITAL
DESCRIPTION: 
URL:https://www.mtacsacb.org/event/november-20th-recital/
END:VEVENT
END:VCALENDAR