BEGIN:VCALENDAR
VERSION:2.0
PRODID:-//Music Teachers Association Southern Alameda County - ECPv5.3.1//NONSGML v1.0//EN
CALSCALE:GREGORIAN
METHOD:PUBLISH
X-WR-CALNAME:Music Teachers Association Southern Alameda County
X-ORIGINAL-URL:https://www.mtacsacb.org
X-WR-CALDESC:Events for Music Teachers Association Southern Alameda County
BEGIN:VTIMEZONE
TZID:UTC
BEGIN:STANDARD
TZOFFSETFROM:+0000
TZOFFSETTO:+0000
TZNAME:UTC
DTSTART:20220101T000000
END:STANDARD
END:VTIMEZONE
BEGIN:VEVENT
DTSTART;TZID=UTC:20221012T100000
DTEND;TZID=UTC:20221012T120000
DTSTAMP:20260423T194456
CREATED:20220906T042521Z
LAST-MODIFIED:20220918T172346Z
UID:2813-1665568800-1665576000@www.mtacsacb.org
SUMMARY:Omri Shimron Guest Lecture
DESCRIPTION:Guest Lecture\nby Omri Shimron\n\nWednesday\, October 12th\, 2022 @ 10am\n\nLocation:\nAnna Poklewski Academy of Music\n39660 Mission Blvd.\nin Fremont\nOmri Shimron 10_12_22 flyer
URL:https://www.mtacsacb.org/event/omri-shimron-guest-lecture/
END:VEVENT
END:VCALENDAR