BEGIN:VCALENDAR
VERSION:2.0
PRODID:-//Music Teachers Association Southern Alameda County - ECPv5.3.1//NONSGML v1.0//EN
CALSCALE:GREGORIAN
METHOD:PUBLISH
X-WR-CALNAME:Music Teachers Association Southern Alameda County
X-ORIGINAL-URL:https://www.mtacsacb.org
X-WR-CALDESC:Events for Music Teachers Association Southern Alameda County
BEGIN:VTIMEZONE
TZID:UTC
BEGIN:STANDARD
TZOFFSETFROM:+0000
TZOFFSETTO:+0000
TZNAME:UTC
DTSTART:20220101T000000
END:STANDARD
END:VTIMEZONE
BEGIN:VEVENT
DTSTART;TZID=UTC:20220209T100000
DTEND;TZID=UTC:20220209T120000
DTSTAMP:20260423T233607
CREATED:20220125T060034Z
LAST-MODIFIED:20220206T221000Z
UID:2545-1644400800-1644408000@www.mtacsacb.org
SUMMARY:Pedagogy and Play
DESCRIPTION:Our branch will be hosting an open forum February 9th on Zoom to discuss CM Exam Tips. We will cover a wide range of topics related to the new CM online format. While many of us have strong views on MTAC’s choice to move the format online\, this event will not be covering that\, as our objective is to help teachers adjust to the current guidelines. \nTopic: CM Exam Tips discussion \nTime: Feb 9\, 2022 10:00 AM Pacific Time (US and Canada) \nJoin Zoom Meeting \nhttps://us02web.zoom.us/j/82080055246?pwd=RVVxMmVVL0dhYUJNMTQ3NGpsMG9Mdz09 \nMeeting ID: 820 8005 5246 \nPasscode: 016561 \nOne tap mobile \n+16699006833\,\,82080055246#\,\,\,\,*016561# US (San Jose)
URL:https://www.mtacsacb.org/event/pedagogy-and-play-2/
END:VEVENT
END:VCALENDAR