BEGIN:VCALENDAR
VERSION:2.0
PRODID:-//Music Teachers Association Southern Alameda County - ECPv5.3.1//NONSGML v1.0//EN
CALSCALE:GREGORIAN
METHOD:PUBLISH
X-WR-CALNAME:Music Teachers Association Southern Alameda County
X-ORIGINAL-URL:https://www.mtacsacb.org
X-WR-CALDESC:Events for Music Teachers Association Southern Alameda County
BEGIN:VTIMEZONE
TZID:UTC
BEGIN:STANDARD
TZOFFSETFROM:+0000
TZOFFSETTO:+0000
TZNAME:UTC
DTSTART:20210101T000000
END:STANDARD
END:VTIMEZONE
BEGIN:VEVENT
DTSTART;TZID=UTC:20211117T100000
DTEND;TZID=UTC:20211117T120000
DTSTAMP:20260424T051947
CREATED:20211117T060448Z
LAST-MODIFIED:20211117T061255Z
UID:2516-1637143200-1637150400@www.mtacsacb.org
SUMMARY:Pedagogy and Play
DESCRIPTION:Pedagogy and Play\nOur first Pedagogy and Play meeting is scheduled on Wednesday\, November 17\, at 10:00am at Olya Katsman’s home 38733 Jonquil Dr. Newark\, CA 94560. \n\nPedagogy & Play is an informal social for teachers to discuss various pedagogical topics\, and also a chance to perform for each other or sightread through some 4-8 hand ensembles (optional)!\n\nWe’d like to suggest a topic “Making History Meaningful”. How do you incorporate teaching music history in your lessons? You can also suggest any topic for discussion! \n\nWe will have pot luck brunch following the discussion and performances\, so please bring some food to share! \nSometimes we just need a chance to unwind! Also a friendly chance to meet with other teachers and enjoy each other’s company.\n​\nThere is ample space in the studio\, also outdoor patio will be available for those who feel more comfortable being outdoors. However\, to adhere to social distancing protocols\, we are limiting the attendance to the first 25 people registered. Hand sanitation station will be available. Please wear your mask. \n\nSign up Here\n\n\n\n\n\nName(required)\n\n	\n\n\nEmail(required)\n\n	\n\n\nPhone Number\n\n	\n	\n		Submit
URL:https://www.mtacsacb.org/event/pedagogy-and-play/
END:VEVENT
END:VCALENDAR