BEGIN:VCALENDAR
VERSION:2.0
PRODID:-//Music Teachers Association Southern Alameda County - ECPv5.3.1//NONSGML v1.0//EN
CALSCALE:GREGORIAN
METHOD:PUBLISH
X-WR-CALNAME:Music Teachers Association Southern Alameda County
X-ORIGINAL-URL:https://www.mtacsacb.org
X-WR-CALDESC:Events for Music Teachers Association Southern Alameda County
BEGIN:VTIMEZONE
TZID:UTC
BEGIN:STANDARD
TZOFFSETFROM:+0000
TZOFFSETTO:+0000
TZNAME:UTC
DTSTART:20220101T000000
END:STANDARD
END:VTIMEZONE
BEGIN:VEVENT
DTSTART;TZID=UTC:20220910T160000
DTEND;TZID=UTC:20220910T170000
DTSTAMP:20260423T180542
CREATED:20220906T043847Z
LAST-MODIFIED:20220906T050451Z
UID:2815-1662825600-1662829200@www.mtacsacb.org
SUMMARY:Student Recital
DESCRIPTION:9/10/2022 Student Recital\n4 pm @ Christ’s Community Church (CCC)\, \n25927 Kay Ave\, Hayward\, CA 94545
URL:https://www.mtacsacb.org/event/student-recital-3/
END:VEVENT
END:VCALENDAR